BEGIN:VCALENDAR
METHOD:PUBLISH
VERSION:2.0
CALSCALE:GREGORIAN
PRODID:-//NONSGML WPForms//NONSGML Sugar Calendar Feeds v3.11.0//EN
X-WR-CALNAME:Zero Waste Day at Epic Renewal (Part of Open Valley)
X-WR-CALDESC:Epic Renewal
X-WR-TIMEZONE:America/New_York
BEGIN:VTIMEZONE
TZID:America/New_York
BEGIN:STANDARD
TZOFFSETFROM:-0400
TZOFFSETTO:-0500
DTSTART:20251102T060000
TZNAME:EST
END:STANDARD
BEGIN:DAYLIGHT
TZOFFSETFROM:-0500
TZOFFSETTO:-0400
DTSTART:20260308T070000
TZNAME:EDT
END:DAYLIGHT
END:VTIMEZONE
BEGIN:VTIMEZONE
TZID:America/New_York
BEGIN:STANDARD
TZOFFSETFROM:-0400
TZOFFSETTO:-0500
DTSTART:20251102T060000
TZNAME:EST
END:STANDARD
BEGIN:DAYLIGHT
TZOFFSETFROM:-0500
TZOFFSETTO:-0400
DTSTART:20260308T070000
TZNAME:EDT
END:DAYLIGHT
END:VTIMEZONE
BEGIN:VEVENT
SUMMARY:Zero Waste Day at Epic Renewal (Part of Open Valley)
DESCRIPTION:Drop in for a celebration of all things zero waste at the Re
 fill Shop\, including:\n\n 	Reducing your food waste with the Food Recov
 ery for RI Program at URI\n 	Sustainable art with Kris Badertscher and 
 Rosie's Revival\n 	Learn about compost and worms with Clew Compost\, Mag
 ic Tree Worm Farm\, and Epic Renewal\n\nPart of Open Valley - Exlore the
  entire neighborhood!\n\n&nbsp\;
URL;VALUE=URI:https://epicrenewal.org/events/zero-waste-day-at-epic-rene
 walpart-of-open-valley/
UID:urn:uuid:005fd7a0-b737-4a62-864f-1d23a954733f
STATUS:CONFIRMED
ORGANIZER:
DTSTAMP:20260423T115419Z
DTSTART;TZID=America/New_York:20260502T120000
DTEND;TZID=America/New_York:20260502T170000
LOCATION:23 Acorn Street
END:VEVENT
END:VCALENDAR