BEGIN:VCALENDAR
METHOD:PUBLISH
VERSION:2.0
CALSCALE:GREGORIAN
PRODID:-//NONSGML WPForms//NONSGML Sugar Calendar Feeds v3.11.0//EN
X-WR-CALNAME:Volunteer Window at Harvest Cycle
X-WR-CALDESC:Epic Renewal
X-WR-TIMEZONE:America/New_York
BEGIN:VTIMEZONE
TZID:America/New_York
BEGIN:DAYLIGHT
TZOFFSETFROM:-0500
TZOFFSETTO:-0400
DTSTART:20260308T070000
TZNAME:EDT
END:DAYLIGHT
END:VTIMEZONE
BEGIN:VTIMEZONE
TZID:America/New_York
BEGIN:DAYLIGHT
TZOFFSETFROM:-0500
TZOFFSETTO:-0400
DTSTART:20260308T070000
TZNAME:EDT
END:DAYLIGHT
END:VTIMEZONE
BEGIN:VEVENT
SUMMARY:Volunteer Window at Harvest Cycle
DESCRIPTION:Join Harvest Cycle staff processing compost. We'll likely be
  sifting and turning that morning.\n\nBring work/garden gloves\, water\,
  clothes toed shoes\, and clothes you don't mind getting dirty!
URL;VALUE=URI:https://epicrenewal.org/events/volunteer-window-at-harvest
 -cycle/
UID:urn:uuid:87817800-231e-4f66-8653-8c816901723c
STATUS:CONFIRMED
ORGANIZER:
DTSTAMP:20260423T110441Z
DTSTART;TZID=America/New_York:20260507T090000
DTEND;TZID=America/New_York:20260507T110000
LOCATION:14 Ring Street
END:VEVENT
END:VCALENDAR