BEGIN:VCALENDAR
METHOD:PUBLISH
VERSION:2.0
CALSCALE:GREGORIAN
PRODID:-//NONSGML WPForms//NONSGML Sugar Calendar Feeds v3.11.0//EN
X-WR-CALNAME:Volunteer Day at Revive the Roots
X-WR-CALDESC:Epic Renewal
X-WR-TIMEZONE:America/New_York
BEGIN:VTIMEZONE
TZID:America/New_York
BEGIN:STANDARD
TZOFFSETFROM:-0400
TZOFFSETTO:-0500
DTSTART:20251102T060000
TZNAME:EST
END:STANDARD
BEGIN:DAYLIGHT
TZOFFSETFROM:-0500
TZOFFSETTO:-0400
DTSTART:20260308T070000
TZNAME:EDT
END:DAYLIGHT
END:VTIMEZONE
BEGIN:VTIMEZONE
TZID:America/New_York
BEGIN:STANDARD
TZOFFSETFROM:-0400
TZOFFSETTO:-0500
DTSTART:20251102T060000
TZNAME:EST
END:STANDARD
BEGIN:DAYLIGHT
TZOFFSETFROM:-0500
TZOFFSETTO:-0400
DTSTART:20260308T070000
TZNAME:EDT
END:DAYLIGHT
END:VTIMEZONE
BEGIN:VEVENT
SUMMARY:Volunteer Day at Revive the Roots
DESCRIPTION:Revive The Roots cultivates an inclusive environment free of
  judgment and biases where people and the environment thrive through sus
 tainable practices\, community building\, and education. We prioritize s
 hared resources and a collective vision to responsibly steward land for 
 generations to come.\n\nWhat to Expect on Volunteer Day:\n\nThe day star
 ts with a 12 PM check-in where the Volunteer Coordinator helps match all
  skill and ability levels with light to heavy levels of fiscal\, mental 
 and creative tasks. Members of our Land Stewardship Committee guide proj
 ects and help give insight into our practices on the land. Tasks vary de
 pending on the weather\, time of the year and what needs to be done. Dur
 ing our volunteer days you could be helping out with annual production (
 planting/weeding)\, trail maintenance\, habitat restoration (getting rid
  of invasive species and planting beneficial ones)\, organizing\, tool r
 epair and maintenance\, painting\, trash pick-ups\, building infrastruct
 ure and repair projects . All ages are welcome! The work ends around 3 P
 M when we gather for a shared meal. We make sure that there are always v
 egan and gluten free options.\n\nWe have limited space at our 1st Sunday
  Volunteer Days and we never want to run out of food. So please sign up 
 is your are coming!\n\nLearn more and sign up here.
URL;VALUE=URI:https://epicrenewal.org/events/volunteer-day-at-revive-the
 -roots/
UID:urn:uuid:ec89c33f-c1f6-4644-ab0d-fc7788072f89
STATUS:CONFIRMED
ORGANIZER:
DTSTAMP:20260423T110603Z
DTSTART;TZID=America/New_York:20260503T120000
DTEND;TZID=America/New_York:20260503T150000
END:VEVENT
END:VCALENDAR