BEGIN:VCALENDAR
METHOD:PUBLISH
VERSION:2.0
CALSCALE:GREGORIAN
PRODID:-//NONSGML WPForms//NONSGML Sugar Calendar Feeds v3.11.0//EN
X-WR-CALNAME:SCLT / City Farm Site Tour
X-WR-CALDESC:Epic Renewal
X-WR-TIMEZONE:America/New_York
BEGIN:VTIMEZONE
TZID:America/New_York
BEGIN:DAYLIGHT
TZOFFSETFROM:-0500
TZOFFSETTO:-0400
DTSTART:20260308T070000
TZNAME:EDT
END:DAYLIGHT
END:VTIMEZONE
BEGIN:VTIMEZONE
TZID:America/New_York
BEGIN:DAYLIGHT
TZOFFSETFROM:-0500
TZOFFSETTO:-0400
DTSTART:20260308T070000
TZNAME:EDT
END:DAYLIGHT
END:VTIMEZONE
BEGIN:VEVENT
SUMMARY:SCLT / City Farm Site Tour
DESCRIPTION:Join a tour of SCLT's City Farm!\n\nThe oldest urban farm in
  Rhode Island\, City Farm\, is located at 168 West Clifford Street in So
 uth Providence.Â City Farm staff grow and sell chemical-free produce all
  season long\, creating a revenue stream for SCLT. Hundreds of youth\, v
 olunteers andÂ beginning farmers learn about planting\, growing and harv
 esting food at the Farm. Over the past three decades neighborhood childr
 en have learned about plant cycles and how food is grown there\, and adu
 lts have benefited from gardening workshops and farm apprenticeships.Â C
 ity Farm produceÂ is sold at weekly farmers markets and to area restaura
 nts featuringÂ hyper-local â€‹andÂ organicÂ vegetables\, fruit and herbs
 .\n\nÂ City Farm is changing our food system in four crucial ways\, by:\
 n\n 	providingÂ healthy produceÂ to thousands of people every year\n 	of
 feringÂ workshops on sustainable growing practicesÂ that produce high-yi
 eld crops in small\, urban spaces\n 	promotingÂ biodiversity\, sustainab
 ility and communityÂ at our annualÂ Rare &amp\; Unusual Plant Sale\n 	op
 erating aÂ composting programÂ thatâ€™s kept more than 50\,000 lbs. of f
 ood and other organic waste out of the landfill since 2013 â€“ in fact\,
 Â City Farmâ€™s is the second-largest composting facility in the state!Â
  Â (read this great articleÂ to learn more)
URL;VALUE=URI:https://epicrenewal.org/events/sclt-city-farm-site-tour/
UID:urn:uuid:6e5a7015-4898-420c-8c1d-34f82a40b4b2
STATUS:CONFIRMED
ORGANIZER:
DTSTAMP:20260423T105938Z
DTSTART;TZID=America/New_York:20260505T173000
DTEND;TZID=America/New_York:20260505T183000
LOCATION:168 West Clifford St.
END:VEVENT
END:VCALENDAR