BEGIN:VCALENDAR
METHOD:PUBLISH
VERSION:2.0
CALSCALE:GREGORIAN
PRODID:-//NONSGML WPForms//NONSGML Sugar Calendar Feeds v3.11.0//EN
X-WR-CALNAME:Resilire Art Exhibit Opening [Exhibit Available from 5/2 - 
 6/1]
X-WR-CALDESC:Epic Renewal
X-WR-TIMEZONE:America/New_York
BEGIN:VTIMEZONE
TZID:America/New_York
BEGIN:STANDARD
TZOFFSETFROM:-0400
TZOFFSETTO:-0500
DTSTART:20251102T060000
TZNAME:EST
END:STANDARD
BEGIN:DAYLIGHT
TZOFFSETFROM:-0500
TZOFFSETTO:-0400
DTSTART:20260308T070000
TZNAME:EDT
END:DAYLIGHT
END:VTIMEZONE
BEGIN:VTIMEZONE
TZID:America/New_York
BEGIN:STANDARD
TZOFFSETFROM:-0400
TZOFFSETTO:-0500
DTSTART:20251102T060000
TZNAME:EST
END:STANDARD
BEGIN:DAYLIGHT
TZOFFSETFROM:-0500
TZOFFSETTO:-0400
DTSTART:20260308T070000
TZNAME:EDT
END:DAYLIGHT
END:VTIMEZONE
BEGIN:VEVENT
SUMMARY:Resilire Art Exhibit Opening [Exhibit Available from 5/2 - 6/1]
DESCRIPTION:How can we mirror nature’s resilient response to constant 
 change? What ecological role models can we draw inspiration from? How do
  we bend our daily lives without breaking\, self-reflect\, and adapt? In
  what ways do we mold a flexible\, balanced\, resilient community in the
  wake of adversity? What sustainable pillars can we build together to pr
 otect this foundation? What seeds can we plant to spring back when chall
 enged? Explore how twenty artists answer these questions through a varie
 ty of mixed media eco-art\, and celebrate Beltane on a full moon with us
  at the opening reception on May 2\, 2026.
URL;VALUE=URI:https://epicrenewal.org/events/resilire-art-exhibit/
UID:urn:uuid:d1734960-21ad-42b8-96db-280a0388ebde
STATUS:CONFIRMED
ORGANIZER:
DTSTAMP:20260421T161749Z
DTSTART;TZID=America/New_York:20260502T170000
DTEND;TZID=America/New_York:20260502T200000
LOCATION:10 Sims Ave
END:VEVENT
END:VCALENDAR