BEGIN:VCALENDAR
METHOD:PUBLISH
VERSION:2.0
CALSCALE:GREGORIAN
PRODID:-//NONSGML WPForms//NONSGML Sugar Calendar Feeds v3.11.0//EN
X-WR-CALNAME:Open Doors Site Tour
X-WR-CALDESC:Epic Renewal
X-WR-TIMEZONE:America/New_York
BEGIN:VTIMEZONE
TZID:America/New_York
BEGIN:DAYLIGHT
TZOFFSETFROM:-0500
TZOFFSETTO:-0400
DTSTART:20260308T070000
TZNAME:EDT
END:DAYLIGHT
END:VTIMEZONE
BEGIN:VTIMEZONE
TZID:America/New_York
BEGIN:DAYLIGHT
TZOFFSETFROM:-0500
TZOFFSETTO:-0400
DTSTART:20260308T070000
TZNAME:EDT
END:DAYLIGHT
END:VTIMEZONE
BEGIN:VEVENT
SUMMARY:Open Doors Site Tour
DESCRIPTION:Join us at Open Doors for a hands on look at our community c
 ompost system - learn how we turn food scraps into soil and power a gard
 en that gives back.\n\nCome as you are! Please wear closed toe shoes and
  comfortable clothes.
URL;VALUE=URI:https://epicrenewal.org/events/open-doors-site-tour/
UID:urn:uuid:6d767b30-1c89-4297-8cfb-0be7bd3b1a1e
STATUS:CONFIRMED
ORGANIZER:
DTSTAMP:20260421T161341Z
DTSTART;TZID=America/New_York:20260507T150000
DTEND;TZID=America/New_York:20260507T160000
LOCATION:485 Plainfield Street
END:VEVENT
END:VCALENDAR