BEGIN:VCALENDAR
METHOD:PUBLISH
VERSION:2.0
CALSCALE:GREGORIAN
PRODID:-//NONSGML WPForms//NONSGML Sugar Calendar Feeds v3.11.0//EN
X-WR-CALNAME:Micro Scale Site Tour & Backyard Composting Workshop
X-WR-CALDESC:Epic Renewal
X-WR-TIMEZONE:America/New_York
BEGIN:VTIMEZONE
TZID:America/New_York
BEGIN:DAYLIGHT
TZOFFSETFROM:-0500
TZOFFSETTO:-0400
DTSTART:20260308T070000
TZNAME:EDT
END:DAYLIGHT
END:VTIMEZONE
BEGIN:VTIMEZONE
TZID:America/New_York
BEGIN:DAYLIGHT
TZOFFSETFROM:-0500
TZOFFSETTO:-0400
DTSTART:20260308T070000
TZNAME:EDT
END:DAYLIGHT
END:VTIMEZONE
BEGIN:VEVENT
SUMMARY:Micro Scale Site Tour & Backyard Composting Workshop
DESCRIPTION:Make a big impact on a small &amp\; accessible scale! You'll
  see how the micro-community site works\, get hands-on experience with d
 ifferent backyard-scale bins\, and help turn a pile. Charlotte will disc
 uss how to start or upgrade your backyard system.\n\nThis is at a reside
 nce\, street parking 0nly. You will need to walk across yard\, which is 
 sloped\, uneven\, and grassy. Please bring gloves.
URL;VALUE=URI:https://epicrenewal.org/events/micro-scale-site-tour-backy
 ard-composting-workshop/
UID:urn:uuid:6b8ebf99-0431-43cc-808d-2f335f55a803
STATUS:CONFIRMED
ORGANIZER:
DTSTAMP:20260421T161551Z
DTSTART;TZID=America/New_York:20260507T180000
DTEND;TZID=America/New_York:20260507T190000
LOCATION:88 Oak St
END:VEVENT
END:VCALENDAR