BEGIN:VCALENDAR
METHOD:PUBLISH
VERSION:2.0
CALSCALE:GREGORIAN
PRODID:-//NONSGML WPForms//NONSGML Sugar Calendar Feeds v3.11.0//EN
X-WR-CALNAME:Lil' Rhody Compost Week - Compost Celebration!
X-WR-CALDESC:Epic Renewal
X-WR-TIMEZONE:America/New_York
BEGIN:VTIMEZONE
TZID:America/New_York
BEGIN:DAYLIGHT
TZOFFSETFROM:-0500
TZOFFSETTO:-0400
DTSTART:20260308T070000
TZNAME:EDT
END:DAYLIGHT
END:VTIMEZONE
BEGIN:VTIMEZONE
TZID:America/New_York
BEGIN:DAYLIGHT
TZOFFSETFROM:-0500
TZOFFSETTO:-0400
DTSTART:20260308T070000
TZNAME:EDT
END:DAYLIGHT
END:VTIMEZONE
BEGIN:VEVENT
SUMMARY:Lil' Rhody Compost Week - Compost Celebration!
DESCRIPTION:Wrap up Lil' Rhody Compost Week at our Compost Celebration!\
 n\nThis community gathering loaded with activities\, art\, food\, exhibi
 ts\, a gift raffle\, and more celebrates the vital links between soil\, 
 food\, water\, and our collective well-being through the magic of compos
 t.\n\n 	Immerse yourself in the outdoor Living Gallery from 11th Hour Ra
 cing\n 	Enjoy snacks from Harvest Kitchen and a signature cocktail at Ne
 w Harvest\n 	Explore the Resilire art exhibit\n 	Enter our gift raffle f
 or compost-themed goodies\n 	Meet our state’s composters\, food waste 
 warriors\, and more.\n\nHosted in partnership with Farm Fresh RI\, New H
 arvest Coffee &amp\; Spirits\, and made possible by 11th Hour Racing.
URL;VALUE=URI:https://epicrenewal.org/events/lil-rhody-compost-week-comp
 ost-celebration/
UID:urn:uuid:514e5aba-9fd2-4ce8-80ae-4fd51e9731b0
STATUS:CONFIRMED
ORGANIZER:
DTSTAMP:20260421T161730Z
DTSTART;TZID=America/New_York:20260508T170000
DTEND;TZID=America/New_York:20260508T200000
LOCATION:10 Sims Ave
END:VEVENT
END:VCALENDAR