BEGIN:VCALENDAR
METHOD:PUBLISH
VERSION:2.0
CALSCALE:GREGORIAN
PRODID:-//NONSGML WPForms//NONSGML Sugar Calendar Feeds v3.11.0//EN
X-WR-CALNAME:Harvest Cycle Site Tour
X-WR-CALDESC:Epic Renewal
X-WR-TIMEZONE:America/New_York
BEGIN:VTIMEZONE
TZID:America/New_York
BEGIN:DAYLIGHT
TZOFFSETFROM:-0500
TZOFFSETTO:-0400
DTSTART:20260308T070000
TZNAME:EDT
END:DAYLIGHT
END:VTIMEZONE
BEGIN:VTIMEZONE
TZID:America/New_York
BEGIN:DAYLIGHT
TZOFFSETFROM:-0500
TZOFFSETTO:-0400
DTSTART:20260308T070000
TZNAME:EDT
END:DAYLIGHT
END:VTIMEZONE
BEGIN:VEVENT
SUMMARY:Harvest Cycle Site Tour
DESCRIPTION:Join a tour of Harvest Cycle's processing site in Federal Hi
 ll and learn about community scale composting operations in dense urban 
 environments.
URL;VALUE=URI:https://epicrenewal.org/events/harvest-cycle-site-tour/
UID:urn:uuid:4faec288-7bde-4c0d-8155-74aec7e8b605
STATUS:CONFIRMED
ORGANIZER:
DTSTAMP:20260421T161620Z
DTSTART;TZID=America/New_York:20260505T160000
DTEND;TZID=America/New_York:20260505T170000
LOCATION:14 Ring Street
END:VEVENT
END:VCALENDAR