BEGIN:VCALENDAR
METHOD:PUBLISH
VERSION:2.0
CALSCALE:GREGORIAN
PRODID:-//NONSGML WPForms//NONSGML Sugar Calendar Feeds v3.11.0//EN
X-WR-CALNAME:Fidelity Investments Onsite Composting Campus Site Tour
X-WR-CALDESC:Epic Renewal
X-WR-TIMEZONE:America/New_York
BEGIN:VTIMEZONE
TZID:America/New_York
BEGIN:DAYLIGHT
TZOFFSETFROM:-0500
TZOFFSETTO:-0400
DTSTART:20260308T070000
TZNAME:EDT
END:DAYLIGHT
END:VTIMEZONE
BEGIN:VTIMEZONE
TZID:America/New_York
BEGIN:DAYLIGHT
TZOFFSETFROM:-0500
TZOFFSETTO:-0400
DTSTART:20260308T070000
TZNAME:EDT
END:DAYLIGHT
END:VTIMEZONE
BEGIN:VEVENT
SUMMARY:Fidelity Investments Onsite Composting Campus Site Tour
DESCRIPTION:Fidelity Investments\, located in Smithfield\, RI\, was the 
 first large\, private company in the United States to install a steel ve
 ssel composter with a greenhouse roof enclosure on its campus. As of 201
 7\, it was recognized as one of the few sites in Rhode Island with this 
 specialized composting designation.\n\nJoin us for a site tour to learn 
 about how Fidelity composts food waste from its onsite cafeterias and ut
 ilizes the compost to support an organic farm on the campus\, which dona
 tes to the Rhode Island Community Food Bank.
URL;VALUE=URI:https://epicrenewal.org/events/fidelity-investments-campus
 -site-tour/
UID:urn:uuid:7b2ec8ca-45c8-49fe-855a-454f3e15e11c
STATUS:CONFIRMED
ORGANIZER:
DTSTAMP:20260423T105938Z
DTSTART;TZID=America/New_York:20260504T120000
DTEND;TZID=America/New_York:20260504T130000
LOCATION:900 Salem Street
END:VEVENT
END:VCALENDAR