BEGIN:VCALENDAR
METHOD:PUBLISH
VERSION:2.0
CALSCALE:GREGORIAN
PRODID:-//NONSGML WPForms//NONSGML Sugar Calendar Feeds v3.11.0//EN
X-WR-CALNAME:Earth Care Farm Site Tour
X-WR-CALDESC:Epic Renewal
X-WR-TIMEZONE:America/New_York
BEGIN:VTIMEZONE
TZID:America/New_York
BEGIN:DAYLIGHT
TZOFFSETFROM:-0500
TZOFFSETTO:-0400
DTSTART:20260308T070000
TZNAME:EDT
END:DAYLIGHT
END:VTIMEZONE
BEGIN:VTIMEZONE
TZID:America/New_York
BEGIN:DAYLIGHT
TZOFFSETFROM:-0500
TZOFFSETTO:-0400
DTSTART:20260308T070000
TZNAME:EDT
END:DAYLIGHT
END:VTIMEZONE
BEGIN:VEVENT
SUMMARY:Earth Care Farm Site Tour
DESCRIPTION:Join a guided walking tour of Rhode Island's oldest operatin
 g farm composter\, Earth Care Farm. Learn about composting techniques fo
 r your home\, as well as large-scale production practices. See how Earth
  Care Farm's rich soil supports a variety of plant life\, both at small 
 and large scale.\n\n\nThis is an outdoor\, one hour tour. Please wear cl
 osed-toed shoes and dress for the weather.\n\nPlease RSVP so that we can
  communicate with you if needed ahead of the event.
URL;VALUE=URI:https://epicrenewal.org/events/earth-care-farm-site-tour/
UID:urn:uuid:268d0179-1404-49f3-b4f1-79a5f00b8c88
STATUS:CONFIRMED
ORGANIZER:
DTSTAMP:20260423T110629Z
DTSTART;TZID=America/New_York:20260504T170000
DTEND;TZID=America/New_York:20260504T180000
LOCATION:89A Country Dr
END:VEVENT
END:VCALENDAR