BEGIN:VCALENDAR
METHOD:PUBLISH
VERSION:2.0
CALSCALE:GREGORIAN
PRODID:-//NONSGML WPForms//NONSGML Sugar Calendar Feeds v3.11.0//EN
X-WR-CALNAME:Compost Open House at Barrington Farm School
X-WR-CALDESC:Epic Renewal
X-WR-TIMEZONE:America/New_York
BEGIN:VTIMEZONE
TZID:America/New_York
BEGIN:DAYLIGHT
TZOFFSETFROM:-0500
TZOFFSETTO:-0400
DTSTART:20260308T070000
TZNAME:EDT
END:DAYLIGHT
END:VTIMEZONE
BEGIN:VTIMEZONE
TZID:America/New_York
BEGIN:DAYLIGHT
TZOFFSETFROM:-0500
TZOFFSETTO:-0400
DTSTART:20260308T070000
TZNAME:EDT
END:DAYLIGHT
END:VTIMEZONE
BEGIN:VEVENT
SUMMARY:Compost Open House at Barrington Farm School
DESCRIPTION:Visit Barrington Farm School to see community composting in 
 action\, followed by information about the many different ways of compos
 ting food scraps\, including curbside pick-up\, backyard composting\, ve
 rmicomposting\, and more! Representatives from the URI Cooperative Exten
 sion will be available to share other ways of keeping food out of the wa
 ste stream too! Stay the whole time\, or drop-in whenever you can.\n\nPa
 rticipation is welcome\, but not required. Close-toed shoes\, water\, an
 d old clothes are recommended for those wanting to help with the communi
 ty composting at 3pm.
URL;VALUE=URI:https://epicrenewal.org/events/compost-open-house-at-barri
 ngton-farm-school/
UID:urn:uuid:d6f026d6-3c23-4b67-bda4-8b3b5c633803
STATUS:CONFIRMED
ORGANIZER:
DTSTAMP:20260423T110456Z
DTSTART;TZID=America/New_York:20260506T150000
DTEND;TZID=America/New_York:20260506T180000
LOCATION:100-98 Federal Road
END:VEVENT
END:VCALENDAR