BEGIN:VCALENDAR
METHOD:PUBLISH
VERSION:2.0
CALSCALE:GREGORIAN
PRODID:-//NONSGML WPForms//NONSGML Sugar Calendar Feeds v3.11.0//EN
X-WR-CALNAME:Bokashi Composting at Epic Renewal
X-WR-CALDESC:Epic Renewal
X-WR-TIMEZONE:America/New_York
BEGIN:VTIMEZONE
TZID:America/New_York
BEGIN:DAYLIGHT
TZOFFSETFROM:-0500
TZOFFSETTO:-0400
DTSTART:20260308T070000
TZNAME:EDT
END:DAYLIGHT
END:VTIMEZONE
BEGIN:VTIMEZONE
TZID:America/New_York
BEGIN:DAYLIGHT
TZOFFSETFROM:-0500
TZOFFSETTO:-0400
DTSTART:20260308T070000
TZNAME:EDT
END:DAYLIGHT
END:VTIMEZONE
BEGIN:VEVENT
SUMMARY:Bokashi Composting at Epic Renewal
DESCRIPTION:Join Epic Renewal to learn about Bokashi fermentation - expl
 ore Epic Renewals indoor composting process\, and then learn how to appl
 y the method yourself at home! This class is held indoors\, rain or shin
 e.\n\nThis workshop focuses on the traditional Bokashi method\, which us
 es bacteria\, yeast\, and other beneficial microorganisms to ferment foo
 d waste. This user-freindly fermentation process makes breakdown faster 
 and is apartment-friendly!\n\nYou can learn more about bokashi compostin
 g here.\n\nEpic Renewal is at 23 Acorn Street\, Unit 11C\, inside the in
 terior parking lot/courtyard. You can park on Acorn Street\, and follow 
 signs for Epic Renewal through the archway into the courtyard.\n\nWhat t
 o Bring:\n\n 	Supplies for making bran: An airtight container that can 
 hold at least 4 cups.\n 	(optional) If you want to make a fermenter: Br
 ing two buckets that fit easily inside one another and a tight-fitting l
 id\, and we'll help you drill the necessary drainage holes and add a spi
 got! Check with local food service businesses if you want to upcycle!\n\
 n&nbsp\;
URL;VALUE=URI:https://epicrenewal.org/events/bokashi-composting-at-epic-
 renewal/
UID:urn:uuid:90b86bd2-b8b4-4109-b6df-05f42c8bc1b6
STATUS:CONFIRMED
ORGANIZER:
DTSTAMP:20260423T110737Z
DTSTART;TZID=America/New_York:20260506T180000
DTEND;TZID=America/New_York:20260506T190000
LOCATION:23 Acorn Street
END:VEVENT
END:VCALENDAR