BEGIN:VCALENDAR
METHOD:PUBLISH
VERSION:2.0
CALSCALE:GREGORIAN
PRODID:-//NONSGML WPForms//NONSGML Sugar Calendar Feeds v3.11.0//EN
X-WR-CALNAME:Backyard Composting Workshop with Providence Gardenworks
X-WR-CALDESC:Epic Renewal
X-WR-TIMEZONE:America/New_York
BEGIN:VTIMEZONE
TZID:America/New_York
BEGIN:DAYLIGHT
TZOFFSETFROM:-0500
TZOFFSETTO:-0400
DTSTART:20260308T070000
TZNAME:EDT
END:DAYLIGHT
END:VTIMEZONE
BEGIN:VTIMEZONE
TZID:America/New_York
BEGIN:DAYLIGHT
TZOFFSETFROM:-0500
TZOFFSETTO:-0400
DTSTART:20260308T070000
TZNAME:EDT
END:DAYLIGHT
END:VTIMEZONE
BEGIN:VEVENT
SUMMARY:Backyard Composting Workshop with Providence Gardenworks
DESCRIPTION:Learn about the incredible ease of backyard/urban composting
 . Along with a good dose of science and hopefully some inspiration!\n\n&
 nbsp\;\n\nPlease RSVP so that we can communicate any event changes if ne
 eded.
URL;VALUE=URI:https://epicrenewal.org/events/backyard-composting-worksho
 p-with-providence-gardenworks/
UID:urn:uuid:771ea8dd-d4ba-4d19-a465-2cf23e65af4f
STATUS:CONFIRMED
ORGANIZER:
DTSTAMP:20260423T105808Z
DTSTART;TZID=America/New_York:20260504T160000
DTEND;TZID=America/New_York:20260504T180000
LOCATION:244 Cypress street
END:VEVENT
END:VCALENDAR